BEGIN:VCALENDAR
VERSION:2.0
PRODID:-//RC ARBÖ Hallein - ECPv6.8.0//NONSGML v1.0//EN
CALSCALE:GREGORIAN
METHOD:PUBLISH
X-WR-CALNAME:RC ARBÖ Hallein
X-ORIGINAL-URL:https://www.rc-arboe-hallein.at
X-WR-CALDESC:Veranstaltungen für RC ARBÖ Hallein
REFRESH-INTERVAL;VALUE=DURATION:PT1H
X-Robots-Tag:noindex
X-PUBLISHED-TTL:PT1H
BEGIN:VTIMEZONE
TZID:Europe/Vienna
BEGIN:DAYLIGHT
TZOFFSETFROM:+0100
TZOFFSETTO:+0200
TZNAME:CEST
DTSTART:20260329T010000
END:DAYLIGHT
BEGIN:STANDARD
TZOFFSETFROM:+0200
TZOFFSETTO:+0100
TZNAME:CET
DTSTART:20261025T010000
END:STANDARD
END:VTIMEZONE
BEGIN:VEVENT
DTSTART;VALUE=DATE:20260502
DTEND;VALUE=DATE:20260510
DTSTAMP:20260425T133256
CREATED:20251127T225115Z
LAST-MODIFIED:20260315T222642Z
UID:11696-1777680000-1778371199@www.rc-arboe-hallein.at
SUMMARY:Radreise Istrien / Vrsar
DESCRIPTION:Wieder einmal nach Istrien: 02.-09.05.2026 \nUnterbringung: Hotel Belvedere in Vrsar \nLeistungen: \n\n7 x Übernachtungen mit Halbpension (Frühstück & Abendessen in Buffetform)\nBusfahrt mit Fahrradanhänger (ab Sportzentrum Rif)\nTourenvorschläge für jeden Geschmack – Details folgen\n\nPreis: € 880\,- im Doppelzimmer\, EZ-Zuschlag € 175\,- (Anzahlung € 100\,-) \nHier geht’s zur Anmeldung.\nAnmeldeschluss: Ende Februar 2026 \nVorbesprechung: 10. April 2026\, 19:00\, Brückenwirt \nRoutenvorschläge: Routenübersicht\, Routen & GPX (gezippt)\n(Sollte aufgrund der internen Einstellungen beim Download ein Hinweis auf eine unsichere Datenquelle kommen\, bitte auf die 3 Punkte daneben klicken –> weitere Aktionen –> beibehalten; so sollte der Download möglich sein.)
URL:https://www.rc-arboe-hallein.at/event/radreise-istrien-vrsar/
ATTACH;FMTTYPE=image/jpeg:https://www.rc-arboe-hallein.at/wp-content/uploads/2025/11/Vrsar.jpg
END:VEVENT
BEGIN:VEVENT
DTSTART;TZID=Europe/Vienna:20260508T190000
DTEND;TZID=Europe/Vienna:20260508T220000
DTSTAMP:20260425T133256
CREATED:20251002T173812Z
LAST-MODIFIED:20251002T173812Z
UID:11582-1778266800-1778277600@www.rc-arboe-hallein.at
SUMMARY:Clubabend
DESCRIPTION:
URL:https://www.rc-arboe-hallein.at/event/clubabend-33/
LOCATION:Gasthof Brückenwirt\, Brückenwirtweg\, Taxach\, Salzburg\, 5400
ORGANIZER;CN="RC ARB%C3%96 HALLEIN":MAILTO:info@rc-arboe-hallein.at
END:VEVENT
BEGIN:VEVENT
DTSTART;TZID=Europe/Vienna:20260612T190000
DTEND;TZID=Europe/Vienna:20260612T220000
DTSTAMP:20260425T133256
CREATED:20251002T173925Z
LAST-MODIFIED:20251002T173925Z
UID:11584-1781290800-1781301600@www.rc-arboe-hallein.at
SUMMARY:Clubabend
DESCRIPTION:
URL:https://www.rc-arboe-hallein.at/event/clubabend-34/
LOCATION:Gasthof Brückenwirt\, Brückenwirtweg\, Taxach\, Salzburg\, 5400
ORGANIZER;CN="RC ARB%C3%96 HALLEIN":MAILTO:info@rc-arboe-hallein.at
END:VEVENT
BEGIN:VEVENT
DTSTART;TZID=Europe/Vienna:20260613T050000
DTEND;TZID=Europe/Vienna:20260613T170000
DTSTAMP:20260425T133256
CREATED:20260110T183401Z
LAST-MODIFIED:20260209T222805Z
UID:11822-1781326800-1781370000@www.rc-arboe-hallein.at
SUMMARY:Everesting am Roßfeld
DESCRIPTION:Unter dem Motto „Höhenmeter und Spenden sammeln“ unterstützen wir diese Veranstaltung der Berchtesgadener Bicycle Association: eine inoffizielle Trainingsauffahrt zugunsten der Kinderkrebshilfe und der Bergwacht Ramsau. \nACHTUNG – geänderte Streckenführung: Heuer geht’s über die Rossfeld-Südauffahrt ab der Maut – 16 x 553 hm. Dank offizieller Sperrung ohne motorisierten Verkehr!\nJeder Höhenmeter zählt\, egal ob man 1x hochfährt oder 16x. Es gilt das Motto: “Ois ko\, nix muass!” Wer die Strecke 16x bewältiget (= 8.848 Höhenmeter!)\, hat das Everesting komplett! Am Ziel – beim Parkplatz Ahornbüchsenkopf – ist für das leibliche Wohl gesorgt. \nKeine Anmeldung erforderlich.\nStart: ab 5:00 Klaushöhe / Maut bei der Südauffahrt
URL:https://www.rc-arboe-hallein.at/event/everesting-am-rossfeld/
ATTACH;FMTTYPE=image/jpeg:https://www.rc-arboe-hallein.at/wp-content/uploads/2026/01/2cdd227a-scaled.jpg
END:VEVENT
BEGIN:VEVENT
DTSTART;TZID=Europe/Vienna:20260621T060000
DTEND;TZID=Europe/Vienna:20261021T170000
DTSTAMP:20260425T133256
CREATED:20251002T214351Z
LAST-MODIFIED:20260110T181306Z
UID:11605-1782021600-1792602000@www.rc-arboe-hallein.at
SUMMARY:Mondsee-Radmarathon
DESCRIPTION:… der Radklassiker im Salzkammergut! Zur Wahl stehen drei Distanzen passend für jede Leistungsstärke sowie eine Strecke für Handbiker. Die Zahl der Teilnehmenden ist auf 2.500 begrenzt – somit bitte frühzeitig anmelden\, die Plätze sind begehrt.
URL:https://www.rc-arboe-hallein.at/event/monsee-radmarathon/
ATTACH;FMTTYPE=image/jpeg:https://www.rc-arboe-hallein.at/wp-content/uploads/2025/10/MS250615MondseeRadmarathon5832-scaled.jpg
END:VEVENT
BEGIN:VEVENT
DTSTART;TZID=Europe/Vienna:20260704T080000
DTEND;TZID=Europe/Vienna:20260704T160000
DTSTAMP:20260425T133256
CREATED:20251002T213934Z
LAST-MODIFIED:20251121T121927Z
UID:11600-1783152000-1783180800@www.rc-arboe-hallein.at
SUMMARY:Fahrt ins Blaue
DESCRIPTION:
URL:https://www.rc-arboe-hallein.at/event/fahrt-ins-blaue-5/
LOCATION:ARBÖ Stützpunkt Hallein
ORGANIZER;CN="RC ARB%C3%96 HALLEIN":MAILTO:info@rc-arboe-hallein.at
END:VEVENT
BEGIN:VEVENT
DTSTART;TZID=Europe/Vienna:20260705T100000
DTEND;TZID=Europe/Vienna:20260705T160000
DTSTAMP:20260425T133256
CREATED:20260110T182151Z
LAST-MODIFIED:20260110T182151Z
UID:11819-1783245600-1783267200@www.rc-arboe-hallein.at
SUMMARY:SalzChallenge
DESCRIPTION:Wir möchten den Skiklub Hallein bei dieser Wohltätigkeitsveranstaltung unterstützen. Ob Radfahren\, Laufen oder Wandern\, jeder kann mitmachen! Kein Startgeld\, keine Anmeldung erforderlich.\nStart: Gymnasium Hallein\nZiel: Schiklubhütte beim Knappenlift
URL:https://www.rc-arboe-hallein.at/event/salzchallenge/
ATTACH;FMTTYPE=image/jpeg:https://www.rc-arboe-hallein.at/wp-content/uploads/2026/01/20240623_123357-scaled.jpg
END:VEVENT
BEGIN:VEVENT
DTSTART;TZID=Europe/Vienna:20260710T190000
DTEND;TZID=Europe/Vienna:20260710T220000
DTSTAMP:20260425T133256
CREATED:20251002T212922Z
LAST-MODIFIED:20251002T212922Z
UID:11586-1783710000-1783720800@www.rc-arboe-hallein.at
SUMMARY:Clubabend
DESCRIPTION:
URL:https://www.rc-arboe-hallein.at/event/clubabend-35/
LOCATION:Gasthof Brückenwirt\, Brückenwirtweg\, Taxach\, Salzburg\, 5400
ORGANIZER;CN="RC ARB%C3%96 HALLEIN":MAILTO:info@rc-arboe-hallein.at
END:VEVENT
BEGIN:VEVENT
DTSTART;TZID=Europe/Vienna:20260717T153000
DTEND;TZID=Europe/Vienna:20260717T190000
DTSTAMP:20260425T133256
CREATED:20260312T180404Z
LAST-MODIFIED:20260312T180913Z
UID:11928-1784302200-1784314800@www.rc-arboe-hallein.at
SUMMARY:Trattberg-Sprint
DESCRIPTION:Der legendäre Trattbergstier ist zurück! Diesmal kurz & knackig: von der Trattberg-Maut zur Enzianhütte. \nHier geht’s zu den Details …
URL:https://www.rc-arboe-hallein.at/event/trattberg-sprint/
ATTACH;FMTTYPE=image/png:https://www.rc-arboe-hallein.at/wp-content/uploads/2026/03/Trattberg_sprint_image2.png
END:VEVENT
BEGIN:VEVENT
DTSTART;TZID=Europe/Vienna:20260814T190000
DTEND;TZID=Europe/Vienna:20260814T220000
DTSTAMP:20260425T133256
CREATED:20251002T213016Z
LAST-MODIFIED:20251002T213016Z
UID:11588-1786734000-1786744800@www.rc-arboe-hallein.at
SUMMARY:Clubabend
DESCRIPTION:
URL:https://www.rc-arboe-hallein.at/event/clubabend-36/
LOCATION:Gasthof Brückenwirt\, Brückenwirtweg\, Taxach\, Salzburg\, 5400
ORGANIZER;CN="RC ARB%C3%96 HALLEIN":MAILTO:info@rc-arboe-hallein.at
END:VEVENT
BEGIN:VEVENT
DTSTART;TZID=Europe/Vienna:20260814T190000
DTEND;TZID=Europe/Vienna:20260814T220000
DTSTAMP:20260425T133256
CREATED:20251002T213104Z
LAST-MODIFIED:20251002T213141Z
UID:11590-1786734000-1786744800@www.rc-arboe-hallein.at
SUMMARY:Clubabend
DESCRIPTION:
URL:https://www.rc-arboe-hallein.at/event/clubabend-37/
LOCATION:Gasthof Brückenwirt\, Brückenwirtweg\, Taxach\, Salzburg\, 5400
ORGANIZER;CN="RC ARB%C3%96 HALLEIN":MAILTO:info@rc-arboe-hallein.at
END:VEVENT
BEGIN:VEVENT
DTSTART;VALUE=DATE:20260822
DTEND;VALUE=DATE:20260830
DTSTAMP:20260425T133256
CREATED:20251127T232936Z
LAST-MODIFIED:20260303T214850Z
UID:11701-1787356800-1788047999@www.rc-arboe-hallein.at
SUMMARY:Radreise Waldviertel - Wachau
DESCRIPTION:Unsere Sommerreise führt uns heuer nach Niederösterreich: in die Wachau und das Waldviertel: 22.-29.08.2026 \nUnterbringung: Hotel Goldenes Schiff in Spitz \nLeistungen: \n\n7 x Übernachtungen mit Halbpension (Frühstücksbuffet & Abendessen; 1x Heurigenbesuch)\nBusfahrt mit Fahrradanhänger (ab Sportzentrum Rif)\nTourenvorschläge für jeden Geschmack – Details folgen\n\nPreis: € 1.220\,- im Doppelzimmer inkl. Tourismusabgabe\, EZ-Zuschlag € 175\,- (Anzahlung € 100\,-) \nHier geht’s zur Anmeldung.\nAnmeldeschluss: Ende Mai 2026 \nVorbesprechung: 14. August 2026\, 19:00\, Brückenwirt \nRoutenvorschläge: Übersichtspläne\, Höhenprofile & GPX-Daten (gezippt) folgen\n(Sollte aufgrund der internen Einstellungen beim Download ein Hinweis auf eine unsichere Datenquelle kommen\, bitte auf die 3 Punkte daneben klicken –> weitere Aktionen –> beibehalten; so sollte der Download möglich sein.)
URL:https://www.rc-arboe-hallein.at/event/radreise-waldviertel-wachau/
ATTACH;FMTTYPE=image/jpeg:https://www.rc-arboe-hallein.at/wp-content/uploads/2025/11/wachaublick.jpg
END:VEVENT
BEGIN:VEVENT
DTSTART;TZID=Europe/Vienna:20260911T190000
DTEND;TZID=Europe/Vienna:20260911T220000
DTSTAMP:20260425T133256
CREATED:20251002T213300Z
LAST-MODIFIED:20251002T213300Z
UID:11592-1789153200-1789164000@www.rc-arboe-hallein.at
SUMMARY:Clubabend
DESCRIPTION:
URL:https://www.rc-arboe-hallein.at/event/clubabend-38/
LOCATION:Gasthof Brückenwirt\, Brückenwirtweg\, Taxach\, Salzburg\, 5400
ORGANIZER;CN="RC ARB%C3%96 HALLEIN":MAILTO:info@rc-arboe-hallein.at
END:VEVENT
BEGIN:VEVENT
DTSTART;TZID=Europe/Vienna:20261016T190000
DTEND;TZID=Europe/Vienna:20261016T220000
DTSTAMP:20260425T133256
CREATED:20251002T213351Z
LAST-MODIFIED:20251002T213351Z
UID:11594-1792177200-1792188000@www.rc-arboe-hallein.at
SUMMARY:Clubabend
DESCRIPTION:
URL:https://www.rc-arboe-hallein.at/event/clubabend-39/
LOCATION:Gasthof Brückenwirt\, Brückenwirtweg\, Taxach\, Salzburg\, 5400
ORGANIZER;CN="RC ARB%C3%96 HALLEIN":MAILTO:info@rc-arboe-hallein.at
END:VEVENT
BEGIN:VEVENT
DTSTART;TZID=Europe/Vienna:20261114T190000
DTEND;TZID=Europe/Vienna:20261114T220000
DTSTAMP:20260425T133256
CREATED:20251002T213521Z
LAST-MODIFIED:20251002T213521Z
UID:11596-1794682800-1794693600@www.rc-arboe-hallein.at
SUMMARY:Jahreshauptversammlung
DESCRIPTION:
URL:https://www.rc-arboe-hallein.at/event/jahreshauptversammlung-3/
LOCATION:Gasthof Brückenwirt\, Brückenwirtweg\, Taxach\, Salzburg\, 5400
ORGANIZER;CN="RC ARB%C3%96 HALLEIN":MAILTO:info@rc-arboe-hallein.at
END:VEVENT
BEGIN:VEVENT
DTSTART;TZID=Europe/Vienna:20261212T183000
DTEND;TZID=Europe/Vienna:20261212T230000
DTSTAMP:20260425T133256
CREATED:20251002T213620Z
LAST-MODIFIED:20251002T220321Z
UID:11598-1797100200-1797116400@www.rc-arboe-hallein.at
SUMMARY:Weihnachtsfeier
DESCRIPTION:
URL:https://www.rc-arboe-hallein.at/event/weihnachtsfeier-5/
LOCATION:Gasthof Brückenwirt\, Brückenwirtweg\, Taxach\, Salzburg\, 5400
ATTACH;FMTTYPE=image/jpeg:https://www.rc-arboe-hallein.at/wp-content/uploads/2025/10/IMG-20241224-WA00121-scaled.jpg
ORGANIZER;CN="RC ARB%C3%96 HALLEIN":MAILTO:info@rc-arboe-hallein.at
END:VEVENT
END:VCALENDAR